BEGIN:VCALENDAR
PRODID:/modules.php?name=Schedule&act=getical&eid=110
VERSION:2.0
CALSCALE:GREGORIAN
METHOD:PUBLISH
X-WR-CALNAME:Neu Arzl Olympisches Dorf
X-WR-TIMEZONE:Europe/Berlin
X-WR-CALDESC:Original by https://www.neuarzl-olympischesdorf.at/
 Created by mxSchedule 
 Tecmu 2010-2026
BEGIN:VTIMEZONE
TZID:Europe/Berlin
X-LIC-LOCATION:Europe/Berlin
BEGIN:STANDARD
TZOFFSETFROM:+0100
TZOFFSETTO:+0200
TZNAME:CEST
DTSTART:19701025T030000
RRULE:FREQ=YEARLY;BYMONTH=10;BYDAY=-1SU
END:STANDARD
BEGIN:DAYLIGHT
TZOFFSETFROM:+0100
TZOFFSETTO:+0200
TZNAME:CEST
DTSTART:19700329T020000
RRULE:FREQ=YEARLY;BYMONTH=4;BYDAY=1SU
END:DAYLIGHT
END:VTIMEZONE
BEGIN:VEVENT
ORGANIZER;CN=hazim-hazim.karahasanovic@gmail.com
DTSTART:20180126T170130
DTEND:20180211T180200
UID:93cad912707bf2558d546d10e0aa8e25
CREATED:20260424T100454
SUMMARY:8. interkulturelles künstlerisches Schaffen
DESCRIPTION:Laut
einer Studie leben in Tirol Menschen aus 165 verschiedenen Ländern.
Diese Menschen, mit ihren kulturellen Wurzeln, machen Tirol zur
interkulturellen Schatztruhe, reich an kultureller Vielfalt.  
Ein
Teil dieses Schatzes wird durch das Projekt „Interkulturelles
künstlerisches Schaffen“ allen Interessierten präsentiert.Bereits
zum 8. Mal in Folge präsentieren am 26.01. - 11.02.2018
KünstlerInnen aus verschiedenen
Kulturkreisen und Nationalitäten ihre Werke, die genauso
unterschiedlich sind wie ihre Schöpfer. 
&nbsp; Vom
26.01 bis 10.02. werden im Rahmen einer Bilderausstellung im VNO
Aktivzentrum im Olympischen Dorf, Fotos, Gemälde,
Bleistiftzeichnungen ausgestellt. Die erwerbbaren Werke sollen
BesucherInnen zu neuen, aufregenden Gedanken und Fragen über die
Definition der Kunst bewegen. Die Vernissage findet am 26.01. um 19
Uhr Statt.
&nbsp; Im Rahmen der Veranstaltungsreihe FORUM MIGRATION, das von den Tiroler Museen und ZEMIT organisiert wird,
findet unsere diesjährige literarische Lesung am 11.02.2017 in
FERDINANDEUM statt. Es werden Werke von in Tirol lebenden
Literaten mit und ohne Migrationshintergrund vorgetragen werden, wie
etwa dem Balkan, Russland, Afrika sowie dem Nahen Osten.
&nbsp;
 Veröffentlicht von  https://www.neuarzl-olympischesdorf.at/
LAST-MODIFIED:20260424T100454
END:VEVENT
END:VCALENDAR
