BEGIN:VCALENDAR
PRODID:/modules.php?name=Schedule&act=getical&eid=195
VERSION:2.0
CALSCALE:GREGORIAN
METHOD:PUBLISH
X-WR-CALNAME:Neu Arzl Olympisches Dorf
X-WR-TIMEZONE:Europe/Berlin
X-WR-CALDESC:Original by https://www.neuarzl-olympischesdorf.at/
 Created by mxSchedule 
 Tecmu 2010-2026
BEGIN:VTIMEZONE
TZID:Europe/Berlin
X-LIC-LOCATION:Europe/Berlin
BEGIN:STANDARD
TZOFFSETFROM:+0100
TZOFFSETTO:+0200
TZNAME:CEST
DTSTART:19701025T030000
RRULE:FREQ=YEARLY;BYMONTH=10;BYDAY=-1SU
END:STANDARD
BEGIN:DAYLIGHT
TZOFFSETFROM:+0100
TZOFFSETTO:+0200
TZNAME:CEST
DTSTART:19700329T020000
RRULE:FREQ=YEARLY;BYMONTH=4;BYDAY=1SU
END:DAYLIGHT
END:VTIMEZONE
BEGIN:VEVENT
ORGANIZER;CN=hazim-hazim.karahasanovic@gmail.com
DTSTART:20201004T081015
DTEND:20201004T121045
UID:5460bc8c084ec7981eb8fb34eb4ad442
CREATED:20260424T100458
SUMMARY:Schützenjahrtag der Schützenkompanie Alter Schießstand
DESCRIPTION:

Folgender Ablauf:
Abmarsch am DDr. Lugger Platz 08 Uhr 45
Hl. Messe um 09 Uhr
orts&uuml;blicher Empfang am Kirchplatz
danach Abmarsch ins o-dorf centrum

Mitwirkende: Speckbacher Sch&uuml;tzenkompanie Alter Schie&szlig;stand
Stadtmusikkapelle Speckbacher Neu-Arzl Olympisches Dorf
FF Neu Arzl
div. Fahnenabordnungen.
 Veröffentlicht von  https://www.neuarzl-olympischesdorf.at/
LAST-MODIFIED:20260424T100458
END:VEVENT
END:VCALENDAR
