BEGIN:VCALENDAR
PRODID:/modules.php?name=Schedule&act=getical&eid=212
VERSION:2.0
CALSCALE:GREGORIAN
METHOD:PUBLISH
X-WR-CALNAME:Neu Arzl Olympisches Dorf
X-WR-TIMEZONE:Europe/Berlin
X-WR-CALDESC:Original by https://www.neuarzl-olympischesdorf.at/
 Created by mxSchedule 
 Tecmu 2010-2026
BEGIN:VTIMEZONE
TZID:Europe/Berlin
X-LIC-LOCATION:Europe/Berlin
BEGIN:STANDARD
TZOFFSETFROM:+0100
TZOFFSETTO:+0200
TZNAME:CEST
DTSTART:19701025T030000
RRULE:FREQ=YEARLY;BYMONTH=10;BYDAY=-1SU
END:STANDARD
BEGIN:DAYLIGHT
TZOFFSETFROM:+0100
TZOFFSETTO:+0200
TZNAME:CEST
DTSTART:19700329T020000
RRULE:FREQ=YEARLY;BYMONTH=4;BYDAY=1SU
END:DAYLIGHT
END:VTIMEZONE
BEGIN:VEVENT
ORGANIZER;CN=hazim-hazim.karahasanovic@gmail.com
DTSTART:20231008T211030
DTEND:20231008T221000
UID:feb9cc5a4ad753810b96933d9bf65cd2
CREATED:20260421T050411
SUMMARY:Totengedenken der Vereine mit Schützenjahrtag - Messbeginn 09 Uhr
DESCRIPTION:08.10.2023 - Totengedenken der Vereine mit Sch&uuml;tzenjahrtag - Messbeginn: 09 Uhr

&nbsp;
 Veröffentlicht von  https://www.neuarzl-olympischesdorf.at/
LAST-MODIFIED:20260421T050411
END:VEVENT
END:VCALENDAR
